BEGIN:VCALENDAR
VERSION:2.0
PRODID:-//Layama - ECPv6.15.20//NONSGML v1.0//EN
CALSCALE:GREGORIAN
METHOD:PUBLISH
X-ORIGINAL-URL:https://layama.fr
X-WR-CALDESC:Évènements pour Layama
REFRESH-INTERVAL;VALUE=DURATION:PT1H
X-Robots-Tag:noindex
X-PUBLISHED-TTL:PT1H
BEGIN:VTIMEZONE
TZID:Europe/Paris
BEGIN:DAYLIGHT
TZOFFSETFROM:+0100
TZOFFSETTO:+0200
TZNAME:CEST
DTSTART:20190331T010000
END:DAYLIGHT
BEGIN:STANDARD
TZOFFSETFROM:+0200
TZOFFSETTO:+0100
TZNAME:CET
DTSTART:20191027T010000
END:STANDARD
BEGIN:DAYLIGHT
TZOFFSETFROM:+0100
TZOFFSETTO:+0200
TZNAME:CEST
DTSTART:20200329T010000
END:DAYLIGHT
BEGIN:STANDARD
TZOFFSETFROM:+0200
TZOFFSETTO:+0100
TZNAME:CET
DTSTART:20201025T010000
END:STANDARD
BEGIN:DAYLIGHT
TZOFFSETFROM:+0100
TZOFFSETTO:+0200
TZNAME:CEST
DTSTART:20210328T010000
END:DAYLIGHT
BEGIN:STANDARD
TZOFFSETFROM:+0200
TZOFFSETTO:+0100
TZNAME:CET
DTSTART:20211031T010000
END:STANDARD
END:VTIMEZONE
BEGIN:VEVENT
DTSTART;TZID=Europe/Paris:20200720T080000
DTEND;TZID=Europe/Paris:20200720T220000
DTSTAMP:20260421T212210
CREATED:20200611T140826Z
LAST-MODIFIED:20200616T131737Z
UID:10002478-1595232000-1595282400@layama.fr
SUMMARY:FESTIVAL 2020 * Journée FAMILLE
DESCRIPTION:LAYAMA vous invite à venir en famille pour cette journée qui sera dédiée à nos relations avec les enfants\, nos parents\, nos fratries\, notre communauté. Ce sera aussi une célébration de la nouvelle lune de juillet \nVoici le programme proposé: \n  \n\n\n\n\nDOME\nSOUS BOIS\nTENTE\nESPACE GLASTING\nEspace yoga aérien\n\n\n9H-10h15\nChandra Namaskar \nIsabelle Delaunay\n\n\n\n\n\n\n10H30-12H30\nYoga parents/enfants\nAtelier nature \nInto the woods\nMassages & soins\n\n\n\n\n12H30-13H45\n\n\nMassages & soins\n\n\n\n\n14h-15h30\n\nAtelier créatif\nMassages & soins\n\n\n\n\n16h-18h\n\nAtelier nature \nInto the woods\nMassages & soins\n\n\n\n\n18h30-20h30\nMusique chants et danses\n\nMassages & soins\n\n\n\n\n20H30- \n22h15\ndîner / party\n\n\n\n\n\n\n\n 
URL:https://layama.fr/atelier/festival-2020-journee-famille/
LOCATION:Layama Bibemus\, Bibemus\, aix en Provence
CATEGORIES:Festival 2020,Festival2020,Nos evenements
ATTACH;FMTTYPE=image/jpeg:https://layama.fr/wp-content/uploads/2019/03/43379711_2290814044475827_920316439611572224_o.jpg
ORGANIZER;CN="Layama":MAILTO:contact@layama.fr
GEO:43.5298262;5.4835835
X-APPLE-STRUCTURED-LOCATION;VALUE=URI;X-ADDRESS=Layama Bibemus Bibemus aix en Provence;X-APPLE-RADIUS=500;X-TITLE=Bibemus:geo:5.4835835,43.5298262
END:VEVENT
BEGIN:VEVENT
DTSTART;TZID=Europe/Paris:20200717T080000
DTEND;TZID=Europe/Paris:20200717T220000
DTSTAMP:20260421T212210
CREATED:20200610T144946Z
LAST-MODIFIED:20200715T220853Z
UID:10002472-1594972800-1595023200@layama.fr
SUMMARY:FESTIVAL 2020 * Journée ETHER
DESCRIPTION:VISHUDDHI CHAKRA “je parle” \nCinquième journée d’exploration de notre système énergétique dans la gorge\, avec l’élément ether ou espace et le sens de l’ouïe. \nVishuddhi  est notre centre de communication\, il nous enseigne les leçons liées à la volonté et à l’expression de soi. C’est notre capacité à écouter\, à dire la vérité\, à exprimer notre créativité et notre charisme. \nLâcher la volonté personnelle au service de la volonté divine. \n  \nVoici le programme que nous vous proposons afin d’explorer ce centre énergétique: \n  \n\n\n\n\nDOME\nSOUS BOIS\nTENTE\nESPACE glasting\nEspace yoga aérien\n\n\n8H30-10h\nAtelier méditation \nPierre emmanuel Reviron\n\n\n\n\n\n\n10H30-12H30\nDiapason & ressentis subtils \nAlexis Julliard\nYoga Création et Parole Géraldine Lethenet\nMassages & soins\n\n\n\n\n12H30-13H45\n\n\nMassages & soins\n\n\n\n\n14h-15h30\nYoga des hormones hommes/femmes \nHarimandir\nYoga Nidra \nTatiana Delmas\nMassages & soins\n\n\n\n\n16H-18h\nYoga de la voix \nCaroline Cohen\n\nMassages & soins\n\nYoga aérien (1h15) \nRosa Aguilera\n\n\n18h30-20h30\nVinyasa femmes \nRosa Aguilera\nKirtan \nTatiana Delmas\nMassages & soins\n\nYoga aérien (1h15)\n\n\n20H30-22h15\ndîner\n\n\n\n\n\n\n\n\n 
URL:https://layama.fr/atelier/festival-2020-journee-ether/
LOCATION:Layama Bibemus\, Bibemus\, aix en Provence
CATEGORIES:Festival 2020,Nos evenements
ATTACH;FMTTYPE=image/jpeg:https://layama.fr/wp-content/uploads/2019/11/MG_6115-scaled-e1574326232877.jpg
ORGANIZER;CN="Layama":MAILTO:contact@layama.fr
GEO:43.5298262;5.4835835
X-APPLE-STRUCTURED-LOCATION;VALUE=URI;X-ADDRESS=Layama Bibemus Bibemus aix en Provence;X-APPLE-RADIUS=500;X-TITLE=Bibemus:geo:5.4835835,43.5298262
END:VEVENT
BEGIN:VEVENT
DTSTART;TZID=Europe/Paris:20200713T080000
DTEND;TZID=Europe/Paris:20200720T203000
DTSTAMP:20260421T212210
CREATED:20200616T135339Z
LAST-MODIFIED:20200616T135339Z
UID:10002480-1594627200-1595277000@layama.fr
SUMMARY:Stage "Voyages à travers les chakras" avec Géraldine Lethenet
DESCRIPTION:Nous avons la joie cette année de vous proposer un stage pendant le Festival de Yoga en Provence \nUn RDV quotidien du 12 au 20 juillet en terre de soleil\, de pins et de cigales\, sous le dôme\, la tente berbère ou les pins\, dans les chemins de garrigue au Festival de Yoga d’Aix en Provence!\nCette année\, pour respecter les mesures concernant le regroupement des humains sur la terre\, le festival joue les prolongations! Ce qui va nous permettre de passer plus de temps ensemble!\nGéraldine Lethenet vous propos des cessions quotidiennes d’exploration des chakras! \nC’est comme un stage\, mais en mode festival!\nVenez me rejoindre! \nSur le fil du mala\, comme un collier de perles colorées\, un voyage à travers vos chakras de jour en jour\, pour sentir\, explorer\, comprendre\, purifier et dynamiser votre structure énergétique grâce à des outils de connaissance de soi qui colorent mon yoga ! Au programme: \nLundi 13 sur le thème du 1er chakra\, la racine\, Elément Terre\nRando Yoga – “Les pieds sur terre”Yin Yoga à la sauce africaine \nMardi 14 sur le thème du 2ème chakra\, le chakra sacré\, Elément Eau\nH2O*Tout en fluidité : Yoga – Mouvement Libre – Création \nMercredi 15 sur le thème du 3ème chakra\, Plexus solaire\, Elément Feu\nManipura : Yoga – Pranayama – Chant \nJeudi 16\, sur le thème du 4ème chakra\, le Coeur\, Elément Air\nCorps-Coeur-Esprit : Danse libre Méditation \nVendredi 17 sur le thème du 5ème chakra\, la gorge\, Elément Ether\nVishuddhi : Yoga et cercle de parole \nSamedi 18 sur le thème du 6ème chakra\, le 3e oeil\, journée de Lumière\nLa fleur de l’Etre: Yoga Nidra & Création\nSoirée Danse Libre \nDimanche 19 pour intégrer cette semaine d’exploration\nYoga des 5 éléments \nLundi 20\, pour célébrer la joie d’être ensemble\nExploration en mouvement sur la relation “pour -contre – avec – sans” \nEt bien-sur avant\, après\, pendant\, ..profitez-en pour découvrir et pratiquer le yoga\, les mantras\, la danse\, le tai chi\, les massages… avec les enseignants de la tribu Layama! \nTarif Festival 40€/ jour \nTarif pour l’atelier (sans accès aux autres ateliers du Festival) 20€ \nForfait pour le stage complet – 8 ateliers (sans accès aux autres ateliers du Festival) 150€ \n 
URL:https://layama.fr/atelier/stage-voyages-a-travers-les-chakras-avec-geraldine-lethenet/
LOCATION:Layama Bibemus\, Bibemus\, aix en Provence
CATEGORIES:Festival 2020,Festival2020,Nos evenements
ATTACH;FMTTYPE=image/jpeg:https://layama.fr/wp-content/uploads/2020/06/mail-scaled.jpg
ORGANIZER;CN="Layama":MAILTO:contact@layama.fr
GEO:43.5298262;5.4835835
X-APPLE-STRUCTURED-LOCATION;VALUE=URI;X-ADDRESS=Layama Bibemus Bibemus aix en Provence;X-APPLE-RADIUS=500;X-TITLE=Bibemus:geo:5.4835835,43.5298262
END:VEVENT
BEGIN:VEVENT
DTSTART;TZID=Europe/Paris:20200712T183000
DTEND;TZID=Europe/Paris:20200712T203000
DTSTAMP:20260421T212210
CREATED:20200602T132236Z
LAST-MODIFIED:20200602T132359Z
UID:10002464-1594578600-1594585800@layama.fr
SUMMARY:FESTIVAL 2020 * OUVERTURE
DESCRIPTION:Bienvenue au 7ème Festival de Yoga en Provence ! LAYAMA vous invite à la cérémonie d’ouverture du Festival \nYIN YOGA CHAMANIQUE \navec Gaëlle Devic et Alice Azam \n\n\nGuidés dans les postures d’intériorité du Yin Yoga par Gaëlle\, accompagnés par les chants et instruments chamaniques d’Alice\, rentrez dans la puissance des rituels et des intentions de cette soirée d’ouverture du Festival.\nUne invitation à plonger dans notre propre obscurité\, et oser l’introspection profonde\, physique\, mentale et émotionnelle dans la bienveillance du Yin Yoga et l’harmonisation de l’être d’un voyage sonore psycho-magique!\n\n\nA propos du Yin Yoga avec Gaëlle Devic :\nPratique douce destinée à tous ceux qui recherchent de longs étirements tout en cultivant calme et observation. Les postures de Yin Yoga proposent un voyage intérieur\, une exploration de notre nature profonde\, jusque dans la partie minérale du corps : nos os. Dans l’immobilité des postures au sol tenues plusieurs minutes\, nous laisserons agir le souffle et la gravité afin de décontracter les muscles et d’atteindre les tendons\, ligaments et tissus conjonctifs. Ne rien faire\, ne pas agir\, juste être ici et maintenant… Suivant les principes de la philosophie Taoïste\, le Yin yoga est une invitation à mieux se connaître\, une méditation du corps et de l’esprit.\n\n\n\n\nA propos des Voyages sonores et chamaniques :\nAlice Azam propose des Soins psycho-énergétiques et chamaniques / Magnétisme / Thérapie par le son et Massage sonore avec ses bols chantants en terre\ncuite et voix. La spécificité des bols en terre est la production d’une vibration intense et palpable.\nDe cette fréquence sonore\, les chants harmoniques vont naître spontanément. Le corps s’abandonne au coeur de « l’être son » grâce à la sensation physique de la vibration.\n~ Un massage intérieur et réconfortant.\n~ Un enveloppement circulaire et ondulatoire qui accompagne le lâcher prise du corps et du mental.\n~ Une expérience de transe calme et toute en douceur qui amène un saut dans le vide de tous les possibles.\n\n***Atelier ouvert à tous les niveaux***\n\n\n\n\nPossibilité de partager un repas après la cérémonie\, venez avec votre pique nique ou pensez à réserver votre assiette (formules 10€ et 15€ avec dessert et boisson chaude)
URL:https://layama.fr/atelier/fyp-2020-ouverture/
LOCATION:Layama Bibemus\, Bibemus\, aix en Provence
CATEGORIES:Festival 2020,Nos evenements
ATTACH;FMTTYPE=image/jpeg:https://layama.fr/wp-content/uploads/2019/10/yin-chamanique.jpg
ORGANIZER;CN="Layama":MAILTO:contact@layama.fr
GEO:43.5298262;5.4835835
X-APPLE-STRUCTURED-LOCATION;VALUE=URI;X-ADDRESS=Layama Bibemus Bibemus aix en Provence;X-APPLE-RADIUS=500;X-TITLE=Bibemus:geo:5.4835835,43.5298262
END:VEVENT
END:VCALENDAR