BEGIN:VCALENDAR
VERSION:2.0
PRODID:-//Layama - ECPv6.15.20//NONSGML v1.0//EN
CALSCALE:GREGORIAN
METHOD:PUBLISH
X-WR-CALNAME:Layama
X-ORIGINAL-URL:https://layama.fr
X-WR-CALDESC:Évènements pour Layama
REFRESH-INTERVAL;VALUE=DURATION:PT1H
X-Robots-Tag:noindex
X-PUBLISHED-TTL:PT1H
BEGIN:VTIMEZONE
TZID:Europe/Paris
BEGIN:DAYLIGHT
TZOFFSETFROM:+0100
TZOFFSETTO:+0200
TZNAME:CEST
DTSTART:20200329T010000
END:DAYLIGHT
BEGIN:STANDARD
TZOFFSETFROM:+0200
TZOFFSETTO:+0100
TZNAME:CET
DTSTART:20201025T010000
END:STANDARD
BEGIN:DAYLIGHT
TZOFFSETFROM:+0100
TZOFFSETTO:+0200
TZNAME:CEST
DTSTART:20210328T010000
END:DAYLIGHT
BEGIN:STANDARD
TZOFFSETFROM:+0200
TZOFFSETTO:+0100
TZNAME:CET
DTSTART:20211031T010000
END:STANDARD
BEGIN:DAYLIGHT
TZOFFSETFROM:+0100
TZOFFSETTO:+0200
TZNAME:CEST
DTSTART:20220327T010000
END:DAYLIGHT
BEGIN:STANDARD
TZOFFSETFROM:+0200
TZOFFSETTO:+0100
TZNAME:CET
DTSTART:20221030T010000
END:STANDARD
BEGIN:DAYLIGHT
TZOFFSETFROM:+0100
TZOFFSETTO:+0200
TZNAME:CEST
DTSTART:20230326T010000
END:DAYLIGHT
BEGIN:STANDARD
TZOFFSETFROM:+0200
TZOFFSETTO:+0100
TZNAME:CET
DTSTART:20231029T010000
END:STANDARD
END:VTIMEZONE
BEGIN:VEVENT
DTSTART;TZID=Europe/Paris:20210710T210000
DTEND;TZID=Europe/Paris:20210710T223000
DTSTAMP:20260419T171127
CREATED:20210527T125525Z
LAST-MODIFIED:20210527T130245Z
UID:10002502-1625950800-1625956200@layama.fr
SUMMARY:Soirée Tantra Blanc * Yoginanda
DESCRIPTION:Soirée immersive pour une expérience unique Tantrique ( tenue blanche obligatoire pour y participer) \nMéditations\, mouvements\, rituels et chants \n  \nA propose de Yoginanda\n\nYoginanda\, c’est le nom spirituel que m’a donné le Maître Indien Sri Tathata. En me disant “dépêche-toi des âmes t’attendent\, créé un centre là où tu vis et ils viendront”. En m’inspirant dans son ashram en Inde\, et guidé par ses enseignements\, C’est ce que j’ai fait ! En 2020\, j’ouvre un centre de pratique Tantrique en plein cœur de Toulon: “Happy Place”\n\nC’est lors de mon premier voyage en Inde\, il y a plus de 20 ans\, que j’ai commencé la pratique du Tantra dans l’une des écoles les plus réputées au monde le centre Agama Yoga Inde du Nord ainsi qu’en Thaïlande https://www.agamayoga.com/ où j’ai obtenu mes diplômes de Teacher Training Tantra 500h et en Kundalini yoga https://ffky.fr/\n\n\nAprès ces 20 ans d’expérience\,  je transmets les outils puissants (voir magiques !) du yoga tantrique et du kundalini yoga en passant par les méditations actives d’OSHO afin de cultiver sa santé\, sa longévité\, son bien-être\, sa joie\, son amour et de s’élever vers sa spiritualité\, l’état de YOGA\, UNE RELIANCE EN AMOUR AVEC TOUT\n\n\nAVEC TOUTE MA BIENVEILLANCE YOGINANDA 🕉
URL:https://layama.fr/atelier/soiree-tantra-blanc-yoginanda/
LOCATION:Layama Bibemus\, Bibemus\, aix en Provence
CATEGORIES:Festival 2021,Nos evenements
ATTACH;FMTTYPE=image/jpeg:https://layama.fr/wp-content/uploads/2021/05/tantrablanc-e1622120521350.jpg
ORGANIZER;CN="Layama":MAILTO:contact@layama.fr
GEO:43.5298262;5.4835835
X-APPLE-STRUCTURED-LOCATION;VALUE=URI;X-ADDRESS=Layama Bibemus Bibemus aix en Provence;X-APPLE-RADIUS=500;X-TITLE=Bibemus:geo:5.4835835,43.5298262
END:VEVENT
BEGIN:VEVENT
DTSTART;TZID=Europe/Paris:20210711T103000
DTEND;TZID=Europe/Paris:20210711T111500
DTSTAMP:20260419T171127
CREATED:20210603T220127Z
LAST-MODIFIED:20210619T101930Z
UID:10002367-1625999400-1626002100@layama.fr
SUMMARY:Danse libre LOVE * Géraldine Lethenet & Régine Petit
DESCRIPTION:Entre transe et danse \nVoyage au Pays de l’Amour \nL’amour de ce qui est \nL’amour de Soi \nL’Amour du geste \nL’amour du Monde \nVoyage immobile en état modifié de conscience sur du son binaural et guidé par la voix\, danse de la joie et de l’amour avec Régine Petit \nA propos de Régine Petit \nRégine est chorégraphe\, danseuse\, enseignante. Elle transmet avec brillance\, subtilité et générosité l’art d’être soi\, en mouvement\, en conscience\, en joie ! Ceinture noire en Technique Nia®\, elle a introduit cette pratique en France en 2005. Engagée très tôt sur le chemin du développement personnel grâce à l’expression corporelle et à l’exploration de la voix et du souffle\, elle est depuis toujours passionnée par l’intelligence et la sagesse du corps « relié ». Sa palette d’enseignement est riche en danse\, en éveil spirituel\, en lien avec la nature\, les rythmes et les cycles de la vie.\nLe Nia allie danse\, arts martiaux et prise de conscience corporelle. Réalisées en musique\, les chorégraphies visent à l’harmonie entre le corps et l’esprit. Les mouvements sont naturels\, ils offrent de grandes plages de liberté et d’expression personnelle. \n  \nA propos de Géraldine Lethenet
URL:https://layama.fr/atelier/danse-libre-love-geraldine-lethenet-regine-petit/
LOCATION:Layama Bibemus\, Bibemus\, aix en Provence
CATEGORIES:Festival 2021
ATTACH;FMTTYPE=image/jpeg:https://layama.fr/wp-content/uploads/2021/06/danse-libre-love-e1622807086518.jpg
ORGANIZER;CN="Layama":MAILTO:contact@layama.fr
GEO:43.5298262;5.4835835
X-APPLE-STRUCTURED-LOCATION;VALUE=URI;X-ADDRESS=Layama Bibemus Bibemus aix en Provence;X-APPLE-RADIUS=500;X-TITLE=Bibemus:geo:5.4835835,43.5298262
END:VEVENT
BEGIN:VEVENT
DTSTART;TZID=Europe/Paris:20210711T133000
DTEND;TZID=Europe/Paris:20210711T144500
DTSTAMP:20260419T171127
CREATED:20210603T214506Z
LAST-MODIFIED:20210603T214506Z
UID:10002366-1626010200-1626014700@layama.fr
SUMMARY:La dévotion et la Mystique dans le Yoga * Amrajap Kaur
DESCRIPTION:En allant au-delà des notions modernes préconçues de ce que sont le yoga et la dévotion\, nous examinerons l’ensemble des idées\, des valeurs et des pratiques historiquement associées à chaque terme et la manière dont les deux se sont fusionnés\, entrelacés et entrés en conflit dans différentes traditions et époques historiques indiennes. . En comprenant comment le yoga et la dévotion ont été positionnés l’un par rapport à l’autre\, nous en viendrons à voir l’histoire du yoga sous un jour nouveau et fascinant.\nNous pratiquerons en nous plongeant dans des chants dévotionnels traditionnels et modernes . (N’hésitez pas à amener vos instruments) \n  \nAMARJAP KAUR MAIMOUNA\nExploratrice en Yoga et Philosophie \n​\nEtudiant le Hatha Yoga dans la tradition Sivananda depuis 1994\, j’enseigne le Yoga Nidra\, Kundalini Yoga et le Hatha Yoga. J’ai eu le privilège de commencer à transmettre le Yoga en 2001 à Byron Bay en Australie\, puis en Nouvelle Calédonie\, Grenoble pour poser mes valises à Marseille et depuis je n’ai jamais cessé de partager le Yoga. \nJe suis également diplômée d’un Master 2 (DEA) de Recherche en Philosophie (spécialisée en Philosophie de l’esprit\, langage et cognition). Mon domaine de recherche étant l’influence et l’intermodalité sensitive dans la création des concepts et l’altération du champs perceptif\, je met a profit cette connaissance dans le cadre de mon approche du Yoga. Aujourd’hui je poursuis l’étude des grands textes philosophiques de la discipline dans le cadre de la formation de Philosophie du Yoga que je propose. Spécialisée dans l’approche tantrique\, je propose des conférences et ateliers sur les grands textes fondateurs de la discipline et je continue sans cesse d’explorer cet immense trésor.
URL:https://layama.fr/atelier/la-devotion-et-la-mystique-dans-le-yoga-amrajap-kaur/
LOCATION:Layama Bibemus\, Bibemus\, aix en Provence
CATEGORIES:Festival 2021
ATTACH;FMTTYPE=image/jpeg:https://layama.fr/wp-content/uploads/2021/05/Amarjap-Kaur.jpg
ORGANIZER;CN="Layama":MAILTO:contact@layama.fr
GEO:43.5298262;5.4835835
X-APPLE-STRUCTURED-LOCATION;VALUE=URI;X-ADDRESS=Layama Bibemus Bibemus aix en Provence;X-APPLE-RADIUS=500;X-TITLE=Bibemus:geo:5.4835835,43.5298262
END:VEVENT
BEGIN:VEVENT
DTSTART;TZID=Europe/Paris:20210711T150000
DTEND;TZID=Europe/Paris:20210711T164500
DTSTAMP:20260419T171127
CREATED:20210630T162624Z
LAST-MODIFIED:20210630T162624Z
UID:10002530-1626015600-1626021900@layama.fr
SUMMARY:Yoga relationnel * Ronan Devaux
DESCRIPTION:Comment\, lorsque je visite mon monde intérieur\, je m’offre des ressources pour une connexion plus saine avec mon entourage ?\nEst-ce que je peux explorer mon dedans dans la convivialité d’un groupe en déposant mes appréhensions et mon regard critique ?\nLa proposition du Yoga Relationnel est d’expérimenter par des jeux en délicatesse et joie le lien à soi pour favoriser la rencontre avec l’autre. \nPour le FYP 2021\, une nouvelle série posturale intégrant du jonglage et de la locomotion animale ouvrira différemment le lien à soi et à l’autre\, toujours vers un alignement plus assumé. Depuis 6 ans que le Yoga Relationnel existe\, il n’a cessé de se nourrir de rencontres\, et de chercher\, parfois construire des ponts dans les pratiques du bien-être avec comme leitmotiv : Mieux s’écouter pour mieux être en relation avec l’autre. \nDans l’univers du yoga depuis sa naissance\, Ronan a pour intention de permettre à chacun de trouver sa juste place. Tantôt formateur dans le Travail Social\, tantôt icebreaker en entreprise\, proposant des Découvertes des Méditations comme des Cercles de Papas ou des voyages sonores\, la notion de connexion est centrale dans chacune de ses propositions. \nwww.yogarelationnel.fr
URL:https://layama.fr/atelier/yoga-relationnel-ronan-devaux/
LOCATION:Layama Bibemus\, Bibemus\, aix en Provence
CATEGORIES:Festival 2021
ATTACH;FMTTYPE=image/jpeg:https://layama.fr/wp-content/uploads/2021/06/ronan-devaux-scaled-e1625070360474.jpg
ORGANIZER;CN="Layama":MAILTO:contact@layama.fr
GEO:43.5298262;5.4835835
X-APPLE-STRUCTURED-LOCATION;VALUE=URI;X-ADDRESS=Layama Bibemus Bibemus aix en Provence;X-APPLE-RADIUS=500;X-TITLE=Bibemus:geo:5.4835835,43.5298262
END:VEVENT
BEGIN:VEVENT
DTSTART;TZID=Europe/Paris:20210711T163000
DTEND;TZID=Europe/Paris:20210711T174500
DTSTAMP:20260419T171127
CREATED:20210603T230140Z
LAST-MODIFIED:20210603T230240Z
UID:10002515-1626021000-1626025500@layama.fr
SUMMARY:Conférence philosophie : Jérôme Ravenet
DESCRIPTION:Grammaire universelle de la philosophie éternelle \n  \n\n\nA propos de Jérôme \n\nProfesseur agrégé de Philosophie (Lycée)\nDocteur en sinologie (Université Paris VII)\nProfesseur de Chinois (IEP Aix-en-Provence)\nDiplômé de l’Université de Médecine Traditionnelle Chinoise de Shanghaï\nProfesseur diplômé d’état en Arts Martiaux Chinois et ancien membre du collège technique de la fédération française de WAEMC\,spécialiste de Ba Gua Zhang et Zhi Neng Qigong\nChampion du Monde IWUF 2006 – Cat. Ba Gua Zhang\nMédaillé d’honneur par le Général Wan Su Jian (Croix Rouge Internationale- Beijing)
URL:https://layama.fr/atelier/conference-philosophie-jerome-ravenet/
LOCATION:Layama Bibemus\, Bibemus\, aix en Provence
CATEGORIES:Festival 2021
ATTACH;FMTTYPE=image/jpeg:https://layama.fr/wp-content/uploads/2021/06/JEROME-RAVENET-scaled-e1622761264290.jpg
ORGANIZER;CN="Layama":MAILTO:contact@layama.fr
GEO:43.5298262;5.4835835
X-APPLE-STRUCTURED-LOCATION;VALUE=URI;X-ADDRESS=Layama Bibemus Bibemus aix en Provence;X-APPLE-RADIUS=500;X-TITLE=Bibemus:geo:5.4835835,43.5298262
END:VEVENT
BEGIN:VEVENT
DTSTART;TZID=Europe/Paris:20210711T163000
DTEND;TZID=Europe/Paris:20210711T174500
DTSTAMP:20260419T171127
CREATED:20210603T222432Z
LAST-MODIFIED:20210603T231338Z
UID:10002513-1626021000-1626025500@layama.fr
SUMMARY:Yoga du rire * Soizic Clanchin
DESCRIPTION:Le Yoga du Rire est une pratique ludique pour petits et grands \, il suffit de venir avec votre enthousiasme et votre bonne humeur; \nC’est un appel du coeur\, une ouverture aux autres et au monde. \n– Des exercices respiratoires yogiques \n– Une invitation aux jeux proposés. \nPratiqués en groupe dans la bienveillance ils se transforment rapidement en rires réels et contagieux. \nLe Yoga du Rire nous reconnecte à notre joie profonde et à notre enfant intérieur. \nIl nous permet de gérer notre stress. \nPratiqué régulièrement il développe un mental positif\, stimule le système immunitaire et libère les hormones du bonheur. \nLe corps ne fait pas la différence entre un rire simulé et un rire spontané; \n” Nous ne rions pas parce que nous sommes heureux mais nous sommes heureux parce que nous rions ” \nVenez nombreux \n” Plus on est de fous plus on rit ” \nA propos de Soizic Clanchin \nJ’enseigne le Hatha Yoga depuis plusieurs années. \nJ’ai suivi la formation à l’EFYSE Ecole Française du Yoga du Sud Est. \nEn 2017 J’ai découvert le Yoga du Rire et j’ai eu tout de suite l’élan de faire la formation du Dr Madan Katarian son fondateur. \nDepuis j’anime des ateliers hebdomadaires dans mon village et interviens dans divers festivals fêtes et salons.
URL:https://layama.fr/atelier/yoga-du-rire-soizic-clanchin/
LOCATION:Layama Bibemus\, Bibemus\, aix en Provence
CATEGORIES:Festival 2021
ATTACH;FMTTYPE=image/jpeg:https://layama.fr/wp-content/uploads/2021/06/yoga-du-rire-scaled-e1622760281704.jpg
ORGANIZER;CN="Layama":MAILTO:contact@layama.fr
GEO:43.5298262;5.4835835
X-APPLE-STRUCTURED-LOCATION;VALUE=URI;X-ADDRESS=Layama Bibemus Bibemus aix en Provence;X-APPLE-RADIUS=500;X-TITLE=Bibemus:geo:5.4835835,43.5298262
END:VEVENT
BEGIN:VEVENT
DTSTART;TZID=Europe/Paris:20210711T170000
DTEND;TZID=Europe/Paris:20210711T200000
DTSTAMP:20260419T171127
CREATED:20210604T150930Z
LAST-MODIFIED:20210610T143125Z
UID:10002522-1626022800-1626033600@layama.fr
SUMMARY:Initiation au Yoga aérien * Gaëlle Devic & Sandrine Pesce
DESCRIPTION:Prenez votre envol avec cette nouvelle discipline\, découvrez le yoga dans les airs !Spectaculaire et accessible à tous\, le yoga aérien facilite les postures complexes sans forcer sur les vertèbres et libére les tensions physiques et psychologiques.\nLa session dynamique propose des inversions et étirements profonds avec une respiration soutenue. On y retrouve des asanas (postures) avancées que l’on peut effectuer en toute sécurité grâce au soutien de la balançoire. Les bienfaits sont nombreux: drainage lymphatique et sanguin\, renforcement tonique de la peau\, du corps\, détente des articulations et de la colonne vertébrale etc. \nLa session zen se passe sur le sol\, la balançoire soutien le haut du corps et/ou les jambes. L’objectif principal est de lever toute tension physique\, respiratoire\, émotionnelle et cognitive.Un minimum d’efforts avec un maximum de résultats\, vous aurez l’impression de flotter après cette session !\n\nSur réservation à l’accueil sur place\nCours de 20 mn\n5 personnes max
URL:https://layama.fr/atelier/initiation-au-yoga-aerien-gaelle-devic/2021-07-11/
LOCATION:Layama Bibemus\, Bibemus\, aix en Provence
CATEGORIES:Festival 2021
ATTACH;FMTTYPE=image/jpeg:https://layama.fr/wp-content/uploads/2021/06/IMG_8375-e1622819217421.jpg
ORGANIZER;CN="Layama":MAILTO:contact@layama.fr
GEO:43.5298262;5.4835835
X-APPLE-STRUCTURED-LOCATION;VALUE=URI;X-ADDRESS=Layama Bibemus Bibemus aix en Provence;X-APPLE-RADIUS=500;X-TITLE=Bibemus:geo:5.4835835,43.5298262
END:VEVENT
BEGIN:VEVENT
DTSTART;TZID=Europe/Paris:20210711T180000
DTEND;TZID=Europe/Paris:20210711T191500
DTSTAMP:20260419T171127
CREATED:20210603T232203Z
LAST-MODIFIED:20210603T232247Z
UID:10002516-1626026400-1626030900@layama.fr
SUMMARY:Conférence : Le tapis de yoga comme laboratoire philosophique * Jeanne Burgart
DESCRIPTION:Loin d’être une gymnastique\, le yoga est à l’origine une philosophie : c’est l’un de 6 darshanas ou points de vue philosophiques admis par l’hindouisme. Comme toute philosophie\, il s’agit bien d’une quête de vérité\, de conscience et de liberté. Mais ses méthodes ne sont pas les mêmes que celles de la philosophie occidentale : dans le yoga\, on ne manie pas que le raisonnement\, mais aussi le corps\, le souffle\, la posture\, la méditation\, le chant\, la visualisation… De nombreux textes guident l’apprenti dans cette exploration – tantôt des traités très techniques (Hatha Yoga Pradipika\, Gheranda Samhita…)\, tantôt des recueils très courts\, à la fois simples et énigmatiques (Yoga Sutra\, Vijñana Bhaïrava Tantra\, Spandakarika…). \nDans cet atelier\, je vous propose de découvrir cette dimension fondamentale du yoga. Nous partirons d’une question philosophique à la fois universelle et personnelle\, sur laquelle je vous inviterai à chercher vos propres réponses\, en vous guidant au fil d’une alternance entre temps d’écriture\, de pratique posturale et d’éclaircissements théoriques. \n« Au moment où l’acuité des sens s’ouvre\, nous nous apercevons que tout ce qui est mental ou intellectuel peut être expérimenté physiquement… » (Daniel Odier) \nJeanne Burgart est professeure agrégée de philosophie et écrivain. En 2013\, elle découvre le yoga avec Catherine Cheyssial : une révélation qui n’a fait que se confirmer ! En 2018\, elle commence la formation de professeur de yoga de Mira Jamadi. En 2020\, elle publie Être écoféministe – Théories et pratiques (Prix du livre d’écologie politique)\, fruit de 7 ans de recherches et d’expériences. Passionnée aussi de musique\, de littérature\, de danse et de pédagogie\, elle est à la recherche de passerelles entre intellect et sensibilité\, lucidité et poésie\, pensée et mouvement de la vie.
URL:https://layama.fr/atelier/conference-le-tapis-de-yoga-comme-laboratoire-philosophique-jeanne-burgart-2/
LOCATION:Layama Bibemus\, Bibemus\, aix en Provence
CATEGORIES:Festival 2021
ATTACH;FMTTYPE=image/jpeg:https://layama.fr/wp-content/uploads/2019/03/jeanne-burgart-e1553278100158.jpg
ORGANIZER;CN="Layama":MAILTO:contact@layama.fr
GEO:43.5298262;5.4835835
X-APPLE-STRUCTURED-LOCATION;VALUE=URI;X-ADDRESS=Layama Bibemus Bibemus aix en Provence;X-APPLE-RADIUS=500;X-TITLE=Bibemus:geo:5.4835835,43.5298262
END:VEVENT
BEGIN:VEVENT
DTSTART;TZID=Europe/Paris:20210711T180000
DTEND;TZID=Europe/Paris:20210711T200000
DTSTAMP:20260419T171127
CREATED:20210602T101219Z
LAST-MODIFIED:20210603T232624Z
UID:10002355-1626026400-1626033600@layama.fr
SUMMARY:MASTER CLASS Yoga & Philosophie * Magali Tirel
DESCRIPTION:Introduction au  Vijnana Bhairava \nMagali Tirel est docteur en philosophie et enseigne le yoga sur un mode tantrique\, c’est-à-dire un yoga accès sur la présence à soi et le senti corporel.\nDans ses ateliers\, elle propose une approche contemporaine des textes anciens appartenant à la tradition shivaïte du cachemire\, qui permet de les expérimenter sur le tapis. \nhttps://www.magalitirel.com/
URL:https://layama.fr/atelier/master-class-yoga-philosophie-magali-tirel-2/
LOCATION:Layama Bibemus\, Bibemus\, aix en Provence
CATEGORIES:Festival 2021
ATTACH;FMTTYPE=image/jpeg:https://layama.fr/wp-content/uploads/2020/01/festival-yoga-provence-2019-40.jpg
ORGANIZER;CN="Layama":MAILTO:contact@layama.fr
GEO:43.5298262;5.4835835
X-APPLE-STRUCTURED-LOCATION;VALUE=URI;X-ADDRESS=Layama Bibemus Bibemus aix en Provence;X-APPLE-RADIUS=500;X-TITLE=Bibemus:geo:5.4835835,43.5298262
END:VEVENT
BEGIN:VEVENT
DTSTART;TZID=Europe/Paris:20210711T213000
DTEND;TZID=Europe/Paris:20210711T223000
DTSTAMP:20260419T171127
CREATED:20210619T103113Z
LAST-MODIFIED:20210619T103314Z
UID:10002528-1626039000-1626042600@layama.fr
SUMMARY:Kirtan / Bhadjan * Tatiana Delmas
DESCRIPTION:avec Tatiana Delmas \nChanter ensemble afin d’apaiser nos émotions\, d’apporter l’amour et la joie dans nos êtres profonds. un moment d’union avec notre coeur pour clôturer le 8ème Festival de Yoga en Provence. \nProfesseure de Natha-Yoga diplômée par la FFEY\, Tatiana enseigne depuis sept ans le yoga dans des écoles de yoga\, centres culturels\, écoles\, lycées\, maisons de retraite… Passionnée par les sons\, elle anime des ateliers de chants dévotionnels à la guitare : les Bhajans.
URL:https://layama.fr/atelier/kirtan-bhadjan-tatiana-delmas/
LOCATION:Layama Bibemus\, Bibemus\, aix en Provence
CATEGORIES:Festival 2021
ATTACH;FMTTYPE=image/jpeg:https://layama.fr/wp-content/uploads/2018/05/tatiana-badjan.jpg
ORGANIZER;CN="Layama":MAILTO:contact@layama.fr
GEO:43.5298262;5.4835835
X-APPLE-STRUCTURED-LOCATION;VALUE=URI;X-ADDRESS=Layama Bibemus Bibemus aix en Provence;X-APPLE-RADIUS=500;X-TITLE=Bibemus:geo:5.4835835,43.5298262
END:VEVENT
BEGIN:VEVENT
DTSTART;TZID=Europe/Paris:20220715T140000
DTEND;TZID=Europe/Paris:20220715T151500
DTSTAMP:20260419T171127
CREATED:20210601T175345Z
LAST-MODIFIED:20220711T221304Z
UID:10002507-1657893600-1657898100@layama.fr
SUMMARY:MASTER CLASS Yoga Thérapie * Maria Luisa Munoz
DESCRIPTION:Le Hatha yoga thérapeutique ou yoga thérapie est l’utilisation spécifique des outils du yoga appliqués à la prévention et au traitement de personne souffrant de pathologies. Le yoga possède un grand potentiel préventif grâce à ses techniques millénaires qui apportent une expérience de bien-être dans la globalité de l’être humain : le corps\, le mental\, les émotions et l’esprit.\nApprenez les postures et respirations qui vous soignent sous l’expertise et la bienveillance d’un professeur expérimenté. \n  \nA propos de Maria Luisa Munoz
URL:https://layama.fr/atelier/master-class-yoga-therapie-maria-luisa-munoz/
LOCATION:Layama Bibemus\, Bibemus\, aix en Provence
CATEGORIES:Festival 2021,festival 2022
ATTACH;FMTTYPE=image/jpeg:https://layama.fr/wp-content/uploads/2021/05/ob_755d6f_maria-luisa-munoz-www-ashtangayogaprov.jpg
ORGANIZER;CN="Layama":MAILTO:contact@layama.fr
GEO:43.5298262;5.4835835
X-APPLE-STRUCTURED-LOCATION;VALUE=URI;X-ADDRESS=Layama Bibemus Bibemus aix en Provence;X-APPLE-RADIUS=500;X-TITLE=Bibemus:geo:5.4835835,43.5298262
END:VEVENT
BEGIN:VEVENT
DTSTART;TZID=Europe/Paris:20220716T090000
DTEND;TZID=Europe/Paris:20220716T101500
DTSTAMP:20260419T171127
CREATED:20210628T211639Z
LAST-MODIFIED:20220412T100821Z
UID:10002529-1657962000-1657966500@layama.fr
SUMMARY:Pranayama * Emilie Alibert
DESCRIPTION:  \nPranayama: La danse du souffle \nLe souffle en perpétuel mouvement est une danse magique pour celui qui sait jouer. \nCe va et vient entre le monde intérieur et le monde extérieur\, est la plus grande des danses silencieuses. Équilibre subtil et puissant ! \nCet atelier de pranayama permet de jouer avec les énergies dénuées de tout contenu personnel\, d’apaiser le mental et d’activer la structure énergétique (les chakras). \nUne danse créatrice de son taux vibratoire\, tout en douceur\, tout en conscience. Le souffle est relié aux plans subtils. \nTout est énergie :  émotion\, pensée\, posture\, rêve… à nous de jouer avec le flow\, en assise et en posture. \n  \n  \nEmilie Alibert \nMon cœur balance entre le tout et le rien ; le désir de croquer la vie à pleine dents et celui de me détacher de tous ses tiraillements.  \nPasser à autre chose\, multiplier les expériences\, danser au gré des vibrations qui animent mon coeur\, m’affranchir de toute dualité pour retrouver mon axe. \nJe remercie le ciel d’avoir découvert le Natha Yoga\, 7 années de formation\, d’exploration\, de transformation…. L’étude des tantra insuffle une profonde alchimie de la vie qui repose sur les Souffles\, visualisation\, vibration\, méditation et postures. Ivresse du détachement\, liberté de ne pas être parfait\, et surtout l’art de la dérision ; voilà ce qui me permet de traverser l’existence avec joie\, bienveillance et confiance. \nPour retrouver l’unité entre mon âme\, mon énergie\, mes pensées et mon corps. Je n’ai rien jeté\, j’ai accueilli\, transformé.  Immense trésor pour celui qui ose regarder dans l’obscurité. Ces états de conscience modifiée apportent tellement de douceur et de clarté. \nDepuis bientôt 10 ans\, j’anime des stages\, ateliers\, cours\, et accompagne en individuel des dirigeants dans la gestion de leur charge mentale et des particuliers dans leur processus de guérison. \nhttps://www.yoga-coachinnovation.fr/ \n 
URL:https://layama.fr/atelier/pranayama-emilie-alibert/
LOCATION:Layama Bibemus\, Bibemus\, aix en Provence
CATEGORIES:Festival 2021
ATTACH;FMTTYPE=image/jpeg:https://layama.fr/wp-content/uploads/2021/06/emilie-alibert2.jpg
ORGANIZER;CN="Layama":MAILTO:contact@layama.fr
GEO:43.5298262;5.4835835
X-APPLE-STRUCTURED-LOCATION;VALUE=URI;X-ADDRESS=Layama Bibemus Bibemus aix en Provence;X-APPLE-RADIUS=500;X-TITLE=Bibemus:geo:5.4835835,43.5298262
END:VEVENT
BEGIN:VEVENT
DTSTART;TZID=Europe/Paris:20220825T080000
DTEND;TZID=Europe/Paris:20220828T170000
DTSTAMP:20260419T171127
CREATED:20200120T100343Z
LAST-MODIFIED:20220814T124306Z
UID:10002321-1661414400-1661706000@layama.fr
SUMMARY:Formation de professeur Aeroyoga
DESCRIPTION:Formation de professeur Aeroyoga\ndu 25 au 28 août 2022\n\nà la Yoga Shala de Peypin (20mn d’Aix en Provence) \nEnseignants de yoga\, Pilates\, fitness ou encore professionnels de la santé et du sport… Donnez une dimension aérienne à votre pratique et devenez professeur d’Aeroyoga !\nUne formation de 150h certifiée Yoga Alliance selon la méthode Rafael Martinez\n35h de Pratiques en présentielle avec Gaëlle Devic (RYT 300h) \n165h de Pratiques en vidéo \nLogement en dortoir ou en tente\, cuisine collective… \nhttps://www.aeroyoga-official.com/fr/produit/formation-aeroyoga-a-peypin/
URL:https://layama.fr/atelier/formation-de-professeur-aeroyoga/
LOCATION:Yoga Shala Peypin\, chemin du puits armand\, peypin\, 13124\, France
CATEGORIES:Festival 2021,Nos evenements
ATTACH;FMTTYPE=image/png:https://layama.fr/wp-content/uploads/2020/01/aeroyoga-tt.png
ORGANIZER;CN="Layama":MAILTO:contact@layama.fr
END:VEVENT
END:VCALENDAR