BEGIN:VCALENDAR
VERSION:2.0
PRODID:-//Layama - ECPv6.15.20//NONSGML v1.0//EN
CALSCALE:GREGORIAN
METHOD:PUBLISH
X-WR-CALNAME:Layama
X-ORIGINAL-URL:https://layama.fr
X-WR-CALDESC:Évènements pour Layama
REFRESH-INTERVAL;VALUE=DURATION:PT1H
X-Robots-Tag:noindex
X-PUBLISHED-TTL:PT1H
BEGIN:VTIMEZONE
TZID:Europe/Paris
BEGIN:DAYLIGHT
TZOFFSETFROM:+0100
TZOFFSETTO:+0200
TZNAME:CEST
DTSTART:20170326T010000
END:DAYLIGHT
BEGIN:STANDARD
TZOFFSETFROM:+0200
TZOFFSETTO:+0100
TZNAME:CET
DTSTART:20171029T010000
END:STANDARD
BEGIN:DAYLIGHT
TZOFFSETFROM:+0100
TZOFFSETTO:+0200
TZNAME:CEST
DTSTART:20180325T010000
END:DAYLIGHT
BEGIN:STANDARD
TZOFFSETFROM:+0200
TZOFFSETTO:+0100
TZNAME:CET
DTSTART:20181028T010000
END:STANDARD
BEGIN:DAYLIGHT
TZOFFSETFROM:+0100
TZOFFSETTO:+0200
TZNAME:CEST
DTSTART:20190331T010000
END:DAYLIGHT
BEGIN:STANDARD
TZOFFSETFROM:+0200
TZOFFSETTO:+0100
TZNAME:CET
DTSTART:20191027T010000
END:STANDARD
BEGIN:DAYLIGHT
TZOFFSETFROM:+0100
TZOFFSETTO:+0200
TZNAME:CEST
DTSTART:20200329T010000
END:DAYLIGHT
BEGIN:STANDARD
TZOFFSETFROM:+0200
TZOFFSETTO:+0100
TZNAME:CET
DTSTART:20201025T010000
END:STANDARD
END:VTIMEZONE
BEGIN:VEVENT
DTSTART;TZID=Europe/Paris:20180209T170000
DTEND;TZID=Europe/Paris:20180211T180000
DTSTAMP:20260421T215037
CREATED:20171024T182855Z
LAST-MODIFIED:20171220T131246Z
UID:10002263-1518195600-1518372000@layama.fr
SUMMARY:Retraite Yin Yang Yoga et énergie dans le Lubéron
DESCRIPTION:Retraite de Yoga et énergétique chinoise du PRINTEMPS\ndu 9 au 11 février 2018\n3 jours et 2 nuits au coeur du Lubéron \nGaëlle Devic (enseignante de yoga) et Sibille Devic (acupuncteur) vous proposent une retraite de 3 jours au pied du Luberon en Pays d’Aigues à 45 minutes de route d’Aix en Provence. Au programme\, connexion avec la nature\, randonnées\, yoga et soins énergétiques dans la yourte pour stimuler notre vitalité\, cuisine bio et locale\, lecture au coin du poêle… dans une ambiance conviviale et détendue ! \nPROGRAMME QUOTIDIEN\n8h-10h Yin yang Yoga\n10h Petit déjeuner\n12h-15h Balade ou plage avec picnic\n15h-18h soins énergétiques / temps libre\n18h00-20h yin yoga / méditation / rituels\n20h Dîner \nLieu de la retraite: La Motte d’Aigues dans une charmante propriété nichée dans les vignes\nRetraite 3 jours (9 au 11 février)\nArrivée le 9/02 après midi\nMéditation et Yoga (10h) \nExcursions (lac de la Bonde\, Lourmarin\, Forcalquier) \nune séance acupuncture / massage (1h)\nrepas bio\, végétariens et savoureux\nDépart dimanche 11 février (dernière pratique 16-18h) \nTARIF: Hébergement\, enseignements\, repas et soin énergétique: 320€\nearly bird avant le 24/12/17 290€\nHébergement: en chambre partagée ou chambre individuelle\n3 jours pour se ressourcer\, se défatiguer et se régénérer !\n Inscrivez vous dès maintenant ! \nwww.layama.fr contact@layama.org \n     \n 
URL:https://layama.fr/atelier/retraite-yin-yang-yoga-energie-luberon/
LOCATION:la motte d’aigues\, la motte d'aigues\, 84\, France
CATEGORIES:Nos evenements
ATTACH;FMTTYPE=image/jpeg:https://layama.fr/wp-content/uploads/2017/10/luberon.jpg
ORGANIZER;CN="Layama":MAILTO:contact@layama.fr
END:VEVENT
BEGIN:VEVENT
DTSTART;TZID=Europe/Paris:20181111T103000
DTEND;TZID=Europe/Paris:20181111T123000
DTSTAMP:20260421T215037
CREATED:20181011T145532Z
LAST-MODIFIED:20181011T145916Z
UID:10002283-1541932200-1541939400@layama.fr
SUMMARY:Atelier Yin Yang Yoga et énergie
DESCRIPTION:Vivre harmonieusement le rythme de la vie en lien avec les changements de saison…\nPréparation à l’hiver\nSibille Devic (acupuncteur) et Gaëlle Devic (professeur de yoga) vous proposent 4 ateliers et 4 retraites qui suivent les rythmes du calendrier chinois et la sagesse des enseignements du Taoïsme. Chaque atelier consiste à pratiquer une compilation de gestes essentiels du yoga et de l’énergétique chinoise afin d’harmoniser le corps et l’esprit en lien avec les saisons. Vous bénéficierez également de conseils pratiques au quotidien\, dans votre alimentation et la gestion du stress.
URL:https://layama.fr/atelier/atelier-yin-yang-yoga-et-energie-2/
LOCATION:France
CATEGORIES:Nos evenements
ATTACH;FMTTYPE=image/png:https://layama.fr/wp-content/uploads/2018/08/Capture-d’écran-2018-09-14-à-10.12.12.png
ORGANIZER;CN="Layama":MAILTO:contact@layama.fr
END:VEVENT
BEGIN:VEVENT
DTSTART;TZID=Europe/Paris:20190203T103000
DTEND;TZID=Europe/Paris:20190203T123000
DTSTAMP:20260421T215037
CREATED:20181011T150929Z
LAST-MODIFIED:20181011T150929Z
UID:10002386-1549189800-1549197000@layama.fr
SUMMARY:Atelier Yin Yang Yoga et énergie
DESCRIPTION:Vivre harmonieusement le rythme de la vie en lien avec les changements de saison…\nPréparation au printemps\nSibille Devic (acupuncteur) et Gaëlle Devic (professeur de yoga) vous proposent 4 ateliers et 4 retraites qui suivent les rythmes du calendrier chinois et la sagesse des enseignements du Taoïsme. \nChaque atelier consiste à pratiquer une compilation de gestes essentiels du yoga et de l’énergétique chinoise afin d’harmoniser le corps et l’esprit en lien avec les saisons. Vous bénéficierez également de conseils pratiques au quotidien\, dans votre alimentation et la gestion du stress.
URL:https://layama.fr/atelier/atelier-yin-yang-yoga-et-energie-3/
LOCATION:France
CATEGORIES:Nos evenements
ATTACH;FMTTYPE=image/png:https://layama.fr/wp-content/uploads/2018/08/Capture-d’écran-2018-09-14-à-10.12.12.png
ORGANIZER;CN="Layama":MAILTO:contact@layama.fr
END:VEVENT
BEGIN:VEVENT
DTSTART;TZID=Europe/Paris:20190505T103000
DTEND;TZID=Europe/Paris:20190505T123000
DTSTAMP:20260421T215037
CREATED:20181011T151239Z
LAST-MODIFIED:20181011T151239Z
UID:10002388-1557052200-1557059400@layama.fr
SUMMARY:Atelier Yin Yang Yoga et énergie
DESCRIPTION:Vivre harmonieusement le rythme de la vie en lien avec les changements de saison…\nPréparation à l’été\nSibille Devic (acupuncteur) et Gaëlle Devic (professeur de yoga) vous proposent 4 ateliers et 4 retraites qui suivent les rythmes du calendrier chinois et la sagesse des enseignements du Taoïsme. \nChaque atelier consiste à pratiquer une compilation de gestes essentiels du yoga et de l’énergétique chinoise afin d’harmoniser le corps et l’esprit en lien avec les saisons. Vous bénéficierez également de conseils pratiques au quotidien\, dans votre alimentation et la gestion du stress.
URL:https://layama.fr/atelier/atelier-yin-yang-yoga-et-energie-4/
LOCATION:France
CATEGORIES:Nos evenements
ATTACH;FMTTYPE=image/png:https://layama.fr/wp-content/uploads/2018/08/Capture-d’écran-2018-09-14-à-10.12.12.png
ORGANIZER;CN="Layama":MAILTO:contact@layama.fr
END:VEVENT
END:VCALENDAR