BEGIN:VCALENDAR
VERSION:2.0
PRODID:-//Layama - ECPv6.15.20//NONSGML v1.0//EN
CALSCALE:GREGORIAN
METHOD:PUBLISH
X-WR-CALNAME:Layama
X-ORIGINAL-URL:https://layama.fr
X-WR-CALDESC:Évènements pour Layama
REFRESH-INTERVAL;VALUE=DURATION:PT1H
X-Robots-Tag:noindex
X-PUBLISHED-TTL:PT1H
BEGIN:VTIMEZONE
TZID:Europe/Paris
BEGIN:DAYLIGHT
TZOFFSETFROM:+0100
TZOFFSETTO:+0200
TZNAME:CEST
DTSTART:20170326T010000
END:DAYLIGHT
BEGIN:STANDARD
TZOFFSETFROM:+0200
TZOFFSETTO:+0100
TZNAME:CET
DTSTART:20171029T010000
END:STANDARD
BEGIN:DAYLIGHT
TZOFFSETFROM:+0100
TZOFFSETTO:+0200
TZNAME:CEST
DTSTART:20180325T010000
END:DAYLIGHT
BEGIN:STANDARD
TZOFFSETFROM:+0200
TZOFFSETTO:+0100
TZNAME:CET
DTSTART:20181028T010000
END:STANDARD
BEGIN:DAYLIGHT
TZOFFSETFROM:+0100
TZOFFSETTO:+0200
TZNAME:CEST
DTSTART:20190331T010000
END:DAYLIGHT
BEGIN:STANDARD
TZOFFSETFROM:+0200
TZOFFSETTO:+0100
TZNAME:CET
DTSTART:20191027T010000
END:STANDARD
BEGIN:DAYLIGHT
TZOFFSETFROM:+0100
TZOFFSETTO:+0200
TZNAME:CEST
DTSTART:20200329T010000
END:DAYLIGHT
BEGIN:STANDARD
TZOFFSETFROM:+0200
TZOFFSETTO:+0100
TZNAME:CET
DTSTART:20201025T010000
END:STANDARD
END:VTIMEZONE
BEGIN:VEVENT
DTSTART;TZID=Europe/Paris:20181111T093000
DTEND;TZID=Europe/Paris:20181111T104500
DTSTAMP:20260423T095725
CREATED:20180918T155946Z
LAST-MODIFIED:20180918T155946Z
UID:10002382-1541928600-1541933100@layama.fr
SUMMARY:Yoga / Massages * Parents / Enfants (5/12 ans)
DESCRIPTION:Yoga / Massages * Parents / Enfants (5/12 ans) \nNathalie propose des cours de postures à deux pour s’amuser avec votre enfant… un enchaînement de postures rajeunissantes\, fortifiantes et ludiques.\nDécouvrez des exercices d’étirement deux par deux pour des bienfaits immédiats: respiratoire\, fortification des muscles et des organes internes\, souplesse de la colonne vertébrale\, ouverture des chakras\, apaisement du système nerveux\, calme l’esprit\, accroît la circulation sanguine\, stimulation des nerfs… et des éclats de rires partagés ! \nApprendre à masser avec sa maman ou son papa:\n-Réveiller son corps\, souffle\, assouplir les poignets et les articulations des mains\, effectuer un auto massage des mains (20mn)\n-Technique d’intériorisation\, relaxation\n-Découverte du massage des mains 2 par 2 avec des huiles essentielles bio\n– Préparation des huiles de massage par binôme.\n– Découverte du Massage du visage et des oreilles pour trouver la détente avec de l’huile essentielle de rose. \nPour réussir un bon massage\, comme toute chose dans la vie\, il faut s’y préparer\, être inspiré\, sincère et humble\, sans ambition personnelle\, plein de générosité\, ouvert à l’autre pour pouvoir donner. \nApporter des vêtements souples de couleur claire et des serviettes.\n35€ duo enfant/parent \n\n11/11/18\n02/12/18\n13/01/19\n31/03/19\n28/04/19\n26/05/19\n16/06/19
URL:https://layama.fr/atelier/yoga-massages-parents-enfants-5-12-ans-3/
LOCATION:France
CATEGORIES:Nos evenements
ATTACH;FMTTYPE=image/png:https://layama.fr/wp-content/uploads/2018/09/yoga-parent-enfant.png
ORGANIZER;CN="Layama":MAILTO:contact@layama.fr
END:VEVENT
BEGIN:VEVENT
DTSTART;TZID=Europe/Paris:20181202T093000
DTEND;TZID=Europe/Paris:20181202T104500
DTSTAMP:20260423T095725
CREATED:20180918T160153Z
LAST-MODIFIED:20180918T160153Z
UID:10002384-1543743000-1543747500@layama.fr
SUMMARY:Yoga / Massages * Parents / Enfants (5/12 ans)
DESCRIPTION:Yoga / Massages * Parents / Enfants (5/12 ans) \nNathalie propose des cours de postures à deux pour s’amuser avec votre enfant… un enchaînement de postures rajeunissantes\, fortifiantes et ludiques.\nDécouvrez des exercices d’étirement deux par deux pour des bienfaits immédiats: respiratoire\, fortification des muscles et des organes internes\, souplesse de la colonne vertébrale\, ouverture des chakras\, apaisement du système nerveux\, calme l’esprit\, accroît la circulation sanguine\, stimulation des nerfs… et des éclats de rires partagés ! \nApprendre à masser avec sa maman ou son papa:\n-Réveiller son corps\, souffle\, assouplir les poignets et les articulations des mains\, effectuer un auto massage des mains (20mn)\n-Technique d’intériorisation\, relaxation\n-Découverte du massage des mains 2 par 2 avec des huiles essentielles bio\n– Préparation des huiles de massage par binôme.\n– Découverte du Massage du visage et des oreilles pour trouver la détente avec de l’huile essentielle de rose. \nPour réussir un bon massage\, comme toute chose dans la vie\, il faut s’y préparer\, être inspiré\, sincère et humble\, sans ambition personnelle\, plein de générosité\, ouvert à l’autre pour pouvoir donner. \nApporter des vêtements souples de couleur claire et des serviettes.\n35€ duo enfant/parent \n\n02/12/18\n13/01/19\n31/03/19\n28/04/19\n26/05/19\n16/06/19
URL:https://layama.fr/atelier/yoga-massages-parents-enfants-5-12-ans-4/
LOCATION:France
CATEGORIES:Nos evenements
ATTACH;FMTTYPE=image/png:https://layama.fr/wp-content/uploads/2018/09/yoga-parent-enfant.png
ORGANIZER;CN="Layama":MAILTO:contact@layama.fr
END:VEVENT
BEGIN:VEVENT
DTSTART;TZID=Europe/Paris:20190113T093000
DTEND;TZID=Europe/Paris:20190113T110000
DTSTAMP:20260423T095725
CREATED:20180918T160439Z
LAST-MODIFIED:20180918T160537Z
UID:10002267-1547371800-1547377200@layama.fr
SUMMARY:Yoga / Massages * Parents / Enfants (5/12 ans)
DESCRIPTION:Yoga / Massages * Parents / Enfants (5/12 ans) \nNathalie propose des cours de postures à deux pour s’amuser avec votre enfant… un enchaînement de postures rajeunissantes\, fortifiantes et ludiques.\nDécouvrez des exercices d’étirement deux par deux pour des bienfaits immédiats: respiratoire\, fortification des muscles et des organes internes\, souplesse de la colonne vertébrale\, ouverture des chakras\, apaisement du système nerveux\, calme l’esprit\, accroît la circulation sanguine\, stimulation des nerfs… et des éclats de rires partagés ! \nApprendre à masser avec sa maman ou son papa:\n-Réveiller son corps\, souffle\, assouplir les poignets et les articulations des mains\, effectuer un auto massage des mains (20mn)\n-Technique d’intériorisation\, relaxation\n-Découverte du massage des mains 2 par 2 avec des huiles essentielles bio\n– Préparation des huiles de massage par binôme.\n– Découverte du Massage du visage et des oreilles pour trouver la détente avec de l’huile essentielle de rose. \nPour réussir un bon massage\, comme toute chose dans la vie\, il faut s’y préparer\, être inspiré\, sincère et humble\, sans ambition personnelle\, plein de générosité\, ouvert à l’autre pour pouvoir donner. \nApporter des vêtements souples de couleur claire et des serviettes.\n35€ duo enfant/parent \n\n13/01/19\n31/03/19\n28/04/19\n26/05/19\n16/06/19
URL:https://layama.fr/atelier/yoga-massages-parents-enfants-5-12-ans-5/
LOCATION:France
CATEGORIES:Nos evenements
ATTACH;FMTTYPE=image/png:https://layama.fr/wp-content/uploads/2018/09/yoga-parent-enfant.png
ORGANIZER;CN="Layama":MAILTO:contact@layama.fr
END:VEVENT
BEGIN:VEVENT
DTSTART;TZID=Europe/Paris:20190331T093000
DTEND;TZID=Europe/Paris:20190331T110000
DTSTAMP:20260423T095725
CREATED:20180918T160730Z
LAST-MODIFIED:20180918T160730Z
UID:10002269-1554024600-1554030000@layama.fr
SUMMARY:Yoga / Massages * Parents / Enfants (5/12 ans)
DESCRIPTION:Yoga / Massages * Parents / Enfants (5/12 ans) \nNathalie propose des cours de postures à deux pour s’amuser avec votre enfant… un enchaînement de postures rajeunissantes\, fortifiantes et ludiques.\nDécouvrez des exercices d’étirement deux par deux pour des bienfaits immédiats: respiratoire\, fortification des muscles et des organes internes\, souplesse de la colonne vertébrale\, ouverture des chakras\, apaisement du système nerveux\, calme l’esprit\, accroît la circulation sanguine\, stimulation des nerfs… et des éclats de rires partagés ! \nApprendre à masser avec sa maman ou son papa:\n-Réveiller son corps\, souffle\, assouplir les poignets et les articulations des mains\, effectuer un auto massage des mains (20mn)\n-Technique d’intériorisation\, relaxation\n-Découverte du massage des mains 2 par 2 avec des huiles essentielles bio\n– Préparation des huiles de massage par binôme.\n– Découverte du Massage du visage et des oreilles pour trouver la détente avec de l’huile essentielle de rose. \nPour réussir un bon massage\, comme toute chose dans la vie\, il faut s’y préparer\, être inspiré\, sincère et humble\, sans ambition personnelle\, plein de générosité\, ouvert à l’autre pour pouvoir donner. \nApporter des vêtements souples de couleur claire et des serviettes.\n35€ duo enfant/parent \n31/03/19\n28/04/19\n26/05/19\n16/06/19
URL:https://layama.fr/atelier/yoga-massages-parents-enfants-5-12-ans-6/
LOCATION:France
CATEGORIES:Nos evenements
ATTACH;FMTTYPE=image/png:https://layama.fr/wp-content/uploads/2018/09/yoga-parent-enfant.png
ORGANIZER;CN="Layama":MAILTO:contact@layama.fr
END:VEVENT
BEGIN:VEVENT
DTSTART;TZID=Europe/Paris:20190428T093000
DTEND;TZID=Europe/Paris:20190428T110000
DTSTAMP:20260423T095725
CREATED:20180918T161157Z
LAST-MODIFIED:20180918T161157Z
UID:10002271-1556443800-1556449200@layama.fr
SUMMARY:Yoga / Massages * Parents / Enfants (5/12 ans)
DESCRIPTION:Yoga / Massages * Parents / Enfants (5/12 ans) \nNathalie propose des cours de postures à deux pour s’amuser avec votre enfant… un enchaînement de postures rajeunissantes\, fortifiantes et ludiques.\nDécouvrez des exercices d’étirement deux par deux pour des bienfaits immédiats: respiratoire\, fortification des muscles et des organes internes\, souplesse de la colonne vertébrale\, ouverture des chakras\, apaisement du système nerveux\, calme l’esprit\, accroît la circulation sanguine\, stimulation des nerfs… et des éclats de rires partagés ! \nApprendre à masser avec sa maman ou son papa:\n-Réveiller son corps\, souffle\, assouplir les poignets et les articulations des mains\, effectuer un auto massage des mains (20mn)\n-Technique d’intériorisation\, relaxation\n-Découverte du massage des mains 2 par 2 avec des huiles essentielles bio\n– Préparation des huiles de massage par binôme.\n– Découverte du Massage du visage et des oreilles pour trouver la détente avec de l’huile essentielle de rose. \nPour réussir un bon massage\, comme toute chose dans la vie\, il faut s’y préparer\, être inspiré\, sincère et humble\, sans ambition personnelle\, plein de générosité\, ouvert à l’autre pour pouvoir donner. \nApporter des vêtements souples de couleur claire et des serviettes.\n35€ duo enfant/parent \n\n28/04/19\n26/05/19\n16/06/19
URL:https://layama.fr/atelier/yoga-massages-parents-enfants-5-12-ans-7/
LOCATION:France
CATEGORIES:Nos evenements
ATTACH;FMTTYPE=image/png:https://layama.fr/wp-content/uploads/2018/09/yoga-parent-enfant.png
ORGANIZER;CN="Layama":MAILTO:contact@layama.fr
END:VEVENT
BEGIN:VEVENT
DTSTART;TZID=Europe/Paris:20190526T093000
DTEND;TZID=Europe/Paris:20190526T110000
DTSTAMP:20260423T095725
CREATED:20180918T161344Z
LAST-MODIFIED:20180918T161344Z
UID:10002273-1558863000-1558868400@layama.fr
SUMMARY:Yoga / Massages * Parents / Enfants (5/12 ans)
DESCRIPTION:Yoga / Massages * Parents / Enfants (5/12 ans) \nNathalie propose des cours de postures à deux pour s’amuser avec votre enfant… un enchaînement de postures rajeunissantes\, fortifiantes et ludiques.\nDécouvrez des exercices d’étirement deux par deux pour des bienfaits immédiats: respiratoire\, fortification des muscles et des organes internes\, souplesse de la colonne vertébrale\, ouverture des chakras\, apaisement du système nerveux\, calme l’esprit\, accroît la circulation sanguine\, stimulation des nerfs… et des éclats de rires partagés ! \nApprendre à masser avec sa maman ou son papa:\n-Réveiller son corps\, souffle\, assouplir les poignets et les articulations des mains\, effectuer un auto massage des mains (20mn)\n-Technique d’intériorisation\, relaxation\n-Découverte du massage des mains 2 par 2 avec des huiles essentielles bio\n– Préparation des huiles de massage par binôme.\n– Découverte du Massage du visage et des oreilles pour trouver la détente avec de l’huile essentielle de rose. \nPour réussir un bon massage\, comme toute chose dans la vie\, il faut s’y préparer\, être inspiré\, sincère et humble\, sans ambition personnelle\, plein de générosité\, ouvert à l’autre pour pouvoir donner. \nApporter des vêtements souples de couleur claire et des serviettes.\n35€ duo enfant/parent \n\n26/05/19\n16/06/19
URL:https://layama.fr/atelier/yoga-massages-parents-enfants-5-12-ans-8/
LOCATION:France
CATEGORIES:Nos evenements
ATTACH;FMTTYPE=image/png:https://layama.fr/wp-content/uploads/2018/09/yoga-parent-enfant.png
ORGANIZER;CN="Layama":MAILTO:contact@layama.fr
END:VEVENT
BEGIN:VEVENT
DTSTART;TZID=Europe/Paris:20190616T093000
DTEND;TZID=Europe/Paris:20190616T110000
DTSTAMP:20260423T095725
CREATED:20180918T161517Z
LAST-MODIFIED:20180918T161517Z
UID:10002275-1560677400-1560682800@layama.fr
SUMMARY:Yoga / Massages * Parents / Enfants (5/12 ans)
DESCRIPTION:Yoga / Massages * Parents / Enfants (5/12 ans) \nNathalie propose des cours de postures à deux pour s’amuser avec votre enfant… un enchaînement de postures rajeunissantes\, fortifiantes et ludiques.\nDécouvrez des exercices d’étirement deux par deux pour des bienfaits immédiats: respiratoire\, fortification des muscles et des organes internes\, souplesse de la colonne vertébrale\, ouverture des chakras\, apaisement du système nerveux\, calme l’esprit\, accroît la circulation sanguine\, stimulation des nerfs… et des éclats de rires partagés ! \nApprendre à masser avec sa maman ou son papa:\n-Réveiller son corps\, souffle\, assouplir les poignets et les articulations des mains\, effectuer un auto massage des mains (20mn)\n-Technique d’intériorisation\, relaxation\n-Découverte du massage des mains 2 par 2 avec des huiles essentielles bio\n– Préparation des huiles de massage par binôme.\n– Découverte du Massage du visage et des oreilles pour trouver la détente avec de l’huile essentielle de rose. \nPour réussir un bon massage\, comme toute chose dans la vie\, il faut s’y préparer\, être inspiré\, sincère et humble\, sans ambition personnelle\, plein de générosité\, ouvert à l’autre pour pouvoir donner. \nApporter des vêtements souples de couleur claire et des serviettes.\n35€ duo enfant/parent
URL:https://layama.fr/atelier/yoga-massages-parents-enfants-5-12-ans-9/
LOCATION:France
CATEGORIES:Nos evenements
ATTACH;FMTTYPE=image/png:https://layama.fr/wp-content/uploads/2018/09/yoga-parent-enfant.png
ORGANIZER;CN="Layama":MAILTO:contact@layama.fr
END:VEVENT
END:VCALENDAR