BEGIN:VCALENDAR
VERSION:2.0
PRODID:-//Layama - ECPv6.15.20//NONSGML v1.0//EN
CALSCALE:GREGORIAN
METHOD:PUBLISH
X-WR-CALNAME:Layama
X-ORIGINAL-URL:https://layama.fr
X-WR-CALDESC:Évènements pour Layama
REFRESH-INTERVAL;VALUE=DURATION:PT1H
X-Robots-Tag:noindex
X-PUBLISHED-TTL:PT1H
BEGIN:VTIMEZONE
TZID:Europe/Paris
BEGIN:DAYLIGHT
TZOFFSETFROM:+0100
TZOFFSETTO:+0200
TZNAME:CEST
DTSTART:20200329T010000
END:DAYLIGHT
BEGIN:STANDARD
TZOFFSETFROM:+0200
TZOFFSETTO:+0100
TZNAME:CET
DTSTART:20201025T010000
END:STANDARD
BEGIN:DAYLIGHT
TZOFFSETFROM:+0100
TZOFFSETTO:+0200
TZNAME:CEST
DTSTART:20210328T010000
END:DAYLIGHT
BEGIN:STANDARD
TZOFFSETFROM:+0200
TZOFFSETTO:+0100
TZNAME:CET
DTSTART:20211031T010000
END:STANDARD
BEGIN:DAYLIGHT
TZOFFSETFROM:+0100
TZOFFSETTO:+0200
TZNAME:CEST
DTSTART:20220327T010000
END:DAYLIGHT
BEGIN:STANDARD
TZOFFSETFROM:+0200
TZOFFSETTO:+0100
TZNAME:CET
DTSTART:20221030T010000
END:STANDARD
BEGIN:DAYLIGHT
TZOFFSETFROM:+0100
TZOFFSETTO:+0200
TZNAME:CEST
DTSTART:20230326T010000
END:DAYLIGHT
BEGIN:STANDARD
TZOFFSETFROM:+0200
TZOFFSETTO:+0100
TZNAME:CET
DTSTART:20231029T010000
END:STANDARD
END:VTIMEZONE
BEGIN:VEVENT
DTSTART;TZID=Europe/Paris:20221222T180000
DTEND;TZID=Europe/Paris:20221222T193000
DTSTAMP:20260423T220752
CREATED:20221212T151116Z
LAST-MODIFIED:20221218T222949Z
UID:10002593-1671732000-1671737400@layama.fr
SUMMARY:Solstice d'hiver : les 108 salutations au soleil
DESCRIPTION:Célébrons le solstice d’hiver avec ce rituel de transformation et de purification. \nVous serez guidé.es dans une transe méditative à l’écoute du corps\, du souffle et avec bienveillance. \nPratique guidée par Gaëlle Devic \nTarif: 20€ \ninfos & réservations 06 90 97 99 65
URL:https://layama.fr/atelier/solstice-dhiver-les-108-salutations-au-soleil/
LOCATION:Studio Yoga’L\, avenue de la République\, St François\, Guadeloupe\, 97118
CATEGORIES:Nos evenements
ATTACH;FMTTYPE=image/png:https://layama.fr/wp-content/uploads/2022/12/108-salutations-au-soleil-e1671402562348.png
ORGANIZER;CN="Layama":MAILTO:contact@layama.fr
END:VEVENT
BEGIN:VEVENT
DTSTART;TZID=Europe/Paris:20220117T083000
DTEND;TZID=Europe/Paris:20220129T093000
DTSTAMP:20260423T220752
CREATED:20220118T155958Z
LAST-MODIFIED:20220128T010600Z
UID:10002538-1642408200-1643448600@layama.fr
SUMMARY:14 jours Yoga Challenge
DESCRIPTION:Ça commence aujourd’hui ! Vous êtes prêts ?! Pour les 15 derniers jours de mon séjour en Guadeloupe\, je vous propose Tous les matins une séance de yoga vinyasa pour bien démarrer la journée: salutations au soleil\, et à la lune\, Yin Yang yoga\, des postures d’équilibre et de renforcement\, grands étirements au sol et profonde régénération c’est promis ! Au plaisir de vous retrouver sur la terrasse du studio yoga’L face à la mer. \n15€/cours \n120€/ 12 cours (pas de cours le dimanche) \ninfos et réservations 06 31 23 37 80
URL:https://layama.fr/atelier/14-jours-de-yoga-challenge/
LOCATION:Studio Yoga’L\, avenue de la République\, St François\, Guadeloupe\, 97118
CATEGORIES:Nos evenements
ATTACH;FMTTYPE=image/png:https://layama.fr/wp-content/uploads/2022/01/14-jours-yoga-challenge-e1642521483925.png
ORGANIZER;CN="Layama":MAILTO:contact@layama.fr
END:VEVENT
BEGIN:VEVENT
DTSTART;TZID=Europe/Paris:20220115T160000
DTEND;TZID=Europe/Paris:20220115T180000
DTSTAMP:20260423T220752
CREATED:20220112T170848Z
LAST-MODIFIED:20220112T170848Z
UID:10002390-1642262400-1642269600@layama.fr
SUMMARY:Atelier Yin Yoga
DESCRIPTION:“Surf sur la vague du souffle”\nRespire\, lâche prise\, écoute et surfe…\nUn atelier de deux heures pendant lesquelles nous cultiverons une extrême vigilance au souffle\, une écoute subtile des sensations du corps et un grand lâcher prise mental et émotionnel.\n\nLes postures de Yin Yoga proposent un voyage intérieur\, une exploration de notre nature profonde\, jusque dans la partie minérale du corps: nos os. Dans l’immobilité des postures au sol tenues plusieurs minutes\, nous laisserons agir le souffle et la gravité afin de décontracter les muscles et d’atteindre les tendons\, ligaments et tissus conjonctifs. Ne rien faire\, ne pas agir\, juste être ici et maintenant… Suivant les principes de la philosophie Taoïste\, le Yin yoga est une invitation à mieux se connaître\, une méditation du corps et de l’esprit.\n\nInfos et réservations auprès de Gaëlle 06 31 23 37 80
URL:https://layama.fr/atelier/atelier-yin-yoga/
LOCATION:Studio Yoga’L\, avenue de la République\, St François\, Guadeloupe\, 97118
CATEGORIES:Nos evenements
ATTACH;FMTTYPE=image/png:https://layama.fr/wp-content/uploads/2022/01/yin-yoga-surf-e1642007286786.png
ORGANIZER;CN="Layama":MAILTO:contact@layama.fr
END:VEVENT
BEGIN:VEVENT
DTSTART;TZID=Europe/Paris:20211221T180000
DTEND;TZID=Europe/Paris:20211221T193000
DTSTAMP:20260423T220752
CREATED:20211213T134525Z
LAST-MODIFIED:20211213T134608Z
UID:10002387-1640109600-1640115000@layama.fr
SUMMARY:Rituel du solstice d'hiver : 108 salutations au soleil
DESCRIPTION:mardi 21 décembre \n18h-19h30 \nau Studio Yoga’L \nrue de la République à St François\, Guadeloupe \nCélébrons le solstice d’hiver avec ce rituel de transformation et de purification. \nVous serez guidé.es dans une transe méditative à l’écoute du corps et du souffle et avec bienveillance. \n  \nPratique guidée par Gaëlle Devic
URL:https://layama.fr/atelier/rituel-du-solstice-dhiver-108-salutations-au-soleil/
LOCATION:Studio Yoga’L\, avenue de la République\, St François\, Guadeloupe\, 97118
CATEGORIES:Nos evenements
ATTACH;FMTTYPE=image/jpeg:https://layama.fr/wp-content/uploads/2021/12/108-salutation.jpg
ORGANIZER;CN="Layama":MAILTO:contact@layama.fr
END:VEVENT
BEGIN:VEVENT
DTSTART;TZID=Europe/Paris:20211204T093000
DTEND;TZID=Europe/Paris:20211204T123000
DTSTAMP:20260423T220752
CREATED:20211129T193516Z
LAST-MODIFIED:20211129T193516Z
UID:10002385-1638610200-1638621000@layama.fr
SUMMARY:Yin Yang Yoga : Salutations à la lune
DESCRIPTION:Gaëlle Devic vous invite à célébrer la Nouvelle lune avec deux cours de yoga consécutifs et complémentaires qui peuvent être pris indépendamment l’un de l’autre.\nTOUS NIVEAUX\n9:30-10:45 Salutations à la lune YANG\nsous la forme d’un Vinyasa doux\, nous apprendrons la chorégraphie de la salutation à la lune telle une danse rythmée par le souffle\, afin d’entrer dans une méditation en mouvement.\n11:00-12:15 Salutations à la lune YIN\, nous plongerons dans des postures au sol\, avec de grands étirements\, dans l’exploration des profondeurs de notre être.\nLes pratiques sont en musiques et inspirées de textes et poësies\n15€ le cours\n25€ les 2 cours\nRéservations Studio Yoga’L\n06 90 97 99 65\nou Gaëlle Devic 06 31 23 37 80
URL:https://layama.fr/atelier/yin-yang-yoga-salutations-a-la-lune/
LOCATION:Studio Yoga’L\, avenue de la République\, St François\, Guadeloupe\, 97118
CATEGORIES:Nos evenements
ATTACH;FMTTYPE=image/png:https://layama.fr/wp-content/uploads/2021/11/salutation-à-la-lune.png
END:VEVENT
END:VCALENDAR