BEGIN:VCALENDAR
VERSION:2.0
PRODID:-//Layama - ECPv6.15.20//NONSGML v1.0//EN
CALSCALE:GREGORIAN
METHOD:PUBLISH
X-ORIGINAL-URL:https://layama.fr
X-WR-CALDESC:Évènements pour Layama
REFRESH-INTERVAL;VALUE=DURATION:PT1H
X-Robots-Tag:noindex
X-PUBLISHED-TTL:PT1H
BEGIN:VTIMEZONE
TZID:Europe/Paris
BEGIN:DAYLIGHT
TZOFFSETFROM:+0100
TZOFFSETTO:+0200
TZNAME:CEST
DTSTART:20200329T010000
END:DAYLIGHT
BEGIN:STANDARD
TZOFFSETFROM:+0200
TZOFFSETTO:+0100
TZNAME:CET
DTSTART:20201025T010000
END:STANDARD
BEGIN:DAYLIGHT
TZOFFSETFROM:+0100
TZOFFSETTO:+0200
TZNAME:CEST
DTSTART:20210328T010000
END:DAYLIGHT
BEGIN:STANDARD
TZOFFSETFROM:+0200
TZOFFSETTO:+0100
TZNAME:CET
DTSTART:20211031T010000
END:STANDARD
BEGIN:DAYLIGHT
TZOFFSETFROM:+0100
TZOFFSETTO:+0200
TZNAME:CEST
DTSTART:20220327T010000
END:DAYLIGHT
BEGIN:STANDARD
TZOFFSETFROM:+0200
TZOFFSETTO:+0100
TZNAME:CET
DTSTART:20221030T010000
END:STANDARD
END:VTIMEZONE
BEGIN:VEVENT
DTSTART;TZID=Europe/Paris:20211204T093000
DTEND;TZID=Europe/Paris:20211204T123000
DTSTAMP:20260423T204417
CREATED:20211129T193516Z
LAST-MODIFIED:20211129T193516Z
UID:10002385-1638610200-1638621000@layama.fr
SUMMARY:Yin Yang Yoga : Salutations à la lune
DESCRIPTION:Gaëlle Devic vous invite à célébrer la Nouvelle lune avec deux cours de yoga consécutifs et complémentaires qui peuvent être pris indépendamment l’un de l’autre.\nTOUS NIVEAUX\n9:30-10:45 Salutations à la lune YANG\nsous la forme d’un Vinyasa doux\, nous apprendrons la chorégraphie de la salutation à la lune telle une danse rythmée par le souffle\, afin d’entrer dans une méditation en mouvement.\n11:00-12:15 Salutations à la lune YIN\, nous plongerons dans des postures au sol\, avec de grands étirements\, dans l’exploration des profondeurs de notre être.\nLes pratiques sont en musiques et inspirées de textes et poësies\n15€ le cours\n25€ les 2 cours\nRéservations Studio Yoga’L\n06 90 97 99 65\nou Gaëlle Devic 06 31 23 37 80
URL:https://layama.fr/atelier/yin-yang-yoga-salutations-a-la-lune/
LOCATION:Studio Yoga’L\, avenue de la République\, St François\, Guadeloupe\, 97118
CATEGORIES:Nos evenements
ATTACH;FMTTYPE=image/png:https://layama.fr/wp-content/uploads/2021/11/salutation-à-la-lune.png
END:VEVENT
END:VCALENDAR